BEGIN:VCALENDAR
VERSION:2.0
PRODID:-//Plone.org//NONSGML plone.app.event//EN
X-WR-TIMEZONE:Europe/Madrid
BEGIN:VEVENT
SUMMARY:Xerrada- La Cenerentola de Rossini\, el cim de l'òpera còmica
DTSTART;TZID=Europe/Madrid;VALUE=DATE-TIME:20240430T190000
DTSTAMP;VALUE=DATE-TIME:20260420T134249Z
UID:561d338cdeb546788c35da4a4bd1ca67@www.paeria.cat
CATEGORIES:Cultura,Xerrades i conferències
CREATED;VALUE=DATE-TIME:20240426T165048Z
LAST-MODIFIED;VALUE=DATE-TIME:20250514T130737Z
URL:https://www.paeria.cat/ca/actualitat/agenda/xerrada-la-cenerentola-de-
 rossini-el-cim-de-lopera-comica
END:VEVENT
BEGIN:VTIMEZONE
TZID:Europe/Madrid
X-LIC-LOCATION:Europe/Madrid
BEGIN:DAYLIGHT
DTSTART;VALUE=DATE-TIME:20240331T030000
TZNAME:CEST
TZOFFSETFROM:+0100
TZOFFSETTO:+0200
END:DAYLIGHT
END:VTIMEZONE
END:VCALENDAR
