BEGIN:VCALENDAR
VERSION:2.0
PRODID:-//Plone.org//NONSGML plone.app.event//EN
X-WR-TIMEZONE:Europe/Madrid
BEGIN:VEVENT
SUMMARY:Xocolatada de l'Av Institut - Sant Ignasi
DTSTART;TZID=Europe/Madrid;VALUE=DATE-TIME:20240102T180000
DTSTAMP;VALUE=DATE-TIME:20260419T191851Z
UID:914bdad3e3914bdab6a7c7b6d039af38@www.paeria.cat
CATEGORIES:Tots els públics,Cultura,Cultura popular,Familiar
CREATED;VALUE=DATE-TIME:20231130T121136Z
LAST-MODIFIED;VALUE=DATE-TIME:20250514T121847Z
URL:https://www.paeria.cat/ca/actualitat/agenda/xocolatada-de-lav-institut
 -sant-ignasi
END:VEVENT
BEGIN:VTIMEZONE
TZID:Europe/Madrid
X-LIC-LOCATION:Europe/Madrid
BEGIN:STANDARD
DTSTART;VALUE=DATE-TIME:20231029T020000
TZNAME:CET
TZOFFSETFROM:+0200
TZOFFSETTO:+0100
END:STANDARD
END:VTIMEZONE
END:VCALENDAR
