BEGIN:VCALENDAR
VERSION:2.0
PRODID:-//Plone.org//NONSGML plone.app.event//EN
X-WR-TIMEZONE:Europe/Madrid
BEGIN:VEVENT
SUMMARY:XVIII Festa  de la Música
DTSTART;VALUE=DATE:20250614
DTEND;VALUE=DATE:20250615
DTSTAMP;VALUE=DATE-TIME:20260424T023501Z
UID:aa200c7c3d264b418080d281130d89e2@www.paeria.cat
CATEGORIES:Cultura,Música,Familiar,Tots els públics,Joves
CREATED;VALUE=DATE-TIME:20250409T081605Z
DESCRIPTION:2 escenaris: plaça Paeria i carrer Pi i Maragall (al costat d
 e l’Auditori)
LAST-MODIFIED;VALUE=DATE-TIME:20250526T112847Z
URL:https://www.paeria.cat/ca/actualitat/agenda/xviii-festa-de-la-musica
END:VEVENT
END:VCALENDAR
