BEGIN:VCALENDAR
VERSION:2.0
PRODID:-//Plone.org//NONSGML plone.app.event//EN
X-WR-TIMEZONE:Europe/Madrid
BEGIN:VEVENT
SUMMARY:Agenda comunicació
DTSTART;VALUE=DATE:20230215
DTEND;VALUE=DATE:20230216
DTSTAMP;VALUE=DATE-TIME:20260423T065419Z
UID:11b09ff44a094af9b9d24437aa418881@www.paeria.cat
CREATED;VALUE=DATE-TIME:20230214T172906Z
LAST-MODIFIED;VALUE=DATE-TIME:20230221T120852Z
URL:https://www.paeria.cat/ca/ajuntament/comunicacio/sala-de-premsa/agenda
 /agenda-comunicacio-1
END:VEVENT
END:VCALENDAR
