BEGIN:VCALENDAR
VERSION:2.0
PRODID:-//Plone.org//NONSGML plone.app.event//EN
X-WR-TIMEZONE:Europe/Madrid
BEGIN:VEVENT
SUMMARY:Agenda de comunicació - 11 de febrer de 2023
DTSTART;VALUE=DATE:20230211
DTEND;VALUE=DATE:20230212
DTSTAMP;VALUE=DATE-TIME:20260422T133846Z
UID:2f38c352860544b0bad34ee833d3201c@www.paeria.cat
CREATED;VALUE=DATE-TIME:20230210T184049Z
LAST-MODIFIED;VALUE=DATE-TIME:20230221T121250Z
URL:https://www.paeria.cat/ca/ajuntament/comunicacio/sala-de-premsa/agenda
 /agenda-de-comunicacio-11-de-febrer-de-2023
END:VEVENT
END:VCALENDAR
