BEGIN:VCALENDAR
VERSION:2.0
PRODID:-//Plone.org//NONSGML plone.app.event//EN
X-WR-TIMEZONE:Europe/Madrid
BEGIN:VEVENT
SUMMARY:Agenda de comunicació
DTSTART;VALUE=DATE:20230207
DTEND;VALUE=DATE:20230208
DTSTAMP;VALUE=DATE-TIME:20260421T181901Z
UID:32e1e197d1b44421bfb65c39c35efad6@www.paeria.cat
CREATED;VALUE=DATE-TIME:20230206T175708Z
LAST-MODIFIED;VALUE=DATE-TIME:20230221T121020Z
URL:https://www.paeria.cat/ca/ajuntament/comunicacio/sala-de-premsa/agenda
 /agenda-de-comunicacio-11
END:VEVENT
END:VCALENDAR
