BEGIN:VCALENDAR
VERSION:2.0
PRODID:-//Plone.org//NONSGML plone.app.event//EN
X-WR-TIMEZONE:Europe/Madrid
BEGIN:VEVENT
SUMMARY:Agenda de comunicació-12 d'octubre
DTSTART;VALUE=DATE:20241012
DTEND;VALUE=DATE:20241013
DTSTAMP;VALUE=DATE-TIME:20260421T161718Z
UID:ea2d02b63c8240d1ba16052b450152be@www.paeria.cat
CREATED;VALUE=DATE-TIME:20241011T171825Z
LAST-MODIFIED;VALUE=DATE-TIME:20241011T171834Z
URL:https://www.paeria.cat/ca/ajuntament/comunicacio/sala-de-premsa/agenda
 /agenda-de-comunicacio-12-doctubre
END:VEVENT
END:VCALENDAR
