BEGIN:VCALENDAR
VERSION:2.0
PRODID:-//Plone.org//NONSGML plone.app.event//EN
X-WR-TIMEZONE:Europe/Madrid
BEGIN:VEVENT
SUMMARY:Agenda de comunicació
DTSTART;VALUE=DATE:20230208
DTEND;VALUE=DATE:20230209
DTSTAMP;VALUE=DATE-TIME:20260422T054557Z
UID:7433163f077c4c6ea4d2a620d100ee21@www.paeria.cat
CREATED;VALUE=DATE-TIME:20230207T184843Z
LAST-MODIFIED;VALUE=DATE-TIME:20230221T120954Z
URL:https://www.paeria.cat/ca/ajuntament/comunicacio/sala-de-premsa/agenda
 /agenda-de-comunicacio-12
END:VEVENT
END:VCALENDAR
