BEGIN:VCALENDAR
VERSION:2.0
PRODID:-//Plone.org//NONSGML plone.app.event//EN
X-WR-TIMEZONE:Europe/Madrid
BEGIN:VEVENT
SUMMARY:Agenda de comunicació - 13 de febrer de 2023
DTSTART;VALUE=DATE:20230213
DTEND;VALUE=DATE:20230214
DTSTAMP;VALUE=DATE-TIME:20260422T055406Z
UID:f21bc1eb16c54fea851a8790313093c7@www.paeria.cat
CREATED;VALUE=DATE-TIME:20230212T114642Z
LAST-MODIFIED;VALUE=DATE-TIME:20230212T114656Z
URL:https://www.paeria.cat/ca/ajuntament/comunicacio/sala-de-premsa/agenda
 /agenda-de-comunicacio-13-de-febrer-de-2023
END:VEVENT
END:VCALENDAR
