BEGIN:VCALENDAR
VERSION:2.0
PRODID:-//Plone.org//NONSGML plone.app.event//EN
X-WR-TIMEZONE:Europe/Madrid
BEGIN:VEVENT
SUMMARY:Agenda de comunicació
DTSTART;VALUE=DATE:20230217
DTEND;VALUE=DATE:20230218
DTSTAMP;VALUE=DATE-TIME:20260422T174756Z
UID:d93f88a5d90441d9b0db247de4ad6ab9@www.paeria.cat
CREATED;VALUE=DATE-TIME:20230216T185230Z
LAST-MODIFIED;VALUE=DATE-TIME:20230221T120747Z
URL:https://www.paeria.cat/ca/ajuntament/comunicacio/sala-de-premsa/agenda
 /agenda-de-comunicacio-14
END:VEVENT
END:VCALENDAR
