BEGIN:VCALENDAR
VERSION:2.0
PRODID:-//Plone.org//NONSGML plone.app.event//EN
X-WR-TIMEZONE:Europe/Madrid
BEGIN:VEVENT
SUMMARY:Agenda de comunicació
DTSTART;VALUE=DATE:20230218
DTEND;VALUE=DATE:20230219
DTSTAMP;VALUE=DATE-TIME:20260422T080252Z
UID:c18538142bf049e2bd8f961b35d2172d@www.paeria.cat
CREATED;VALUE=DATE-TIME:20230217T164409Z
LAST-MODIFIED;VALUE=DATE-TIME:20230217T164436Z
URL:https://www.paeria.cat/ca/ajuntament/comunicacio/sala-de-premsa/agenda
 /agenda-de-comunicacio-16
END:VEVENT
END:VCALENDAR
