BEGIN:VCALENDAR
VERSION:2.0
PRODID:-//Plone.org//NONSGML plone.app.event//EN
X-WR-TIMEZONE:Europe/Madrid
BEGIN:VEVENT
SUMMARY:Agenda de comunicació
DTSTART;VALUE=DATE:20230920
DTEND;VALUE=DATE:20230921
DTSTAMP;VALUE=DATE-TIME:20260419T165855Z
UID:7a7fc456a4bc4fb79efe8f95a9d84f54@www.paeria.cat
CREATED;VALUE=DATE-TIME:20230919T175619Z
LAST-MODIFIED;VALUE=DATE-TIME:20230919T175646Z
URL:https://www.paeria.cat/ca/ajuntament/comunicacio/sala-de-premsa/agenda
 /agenda-de-comunicacio-1695146180.3001084
END:VEVENT
END:VCALENDAR
