BEGIN:VCALENDAR
VERSION:2.0
PRODID:-//Plone.org//NONSGML plone.app.event//EN
X-WR-TIMEZONE:Europe/Madrid
BEGIN:VEVENT
SUMMARY:Agenda de Comunicació
DTSTART;VALUE=DATE:20230216
DTEND;VALUE=DATE:20230217
DTSTAMP;VALUE=DATE-TIME:20260422T003802Z
UID:81b7ac9a5b564f35b8becb2c06dc12e4@www.paeria.cat
CREATED;VALUE=DATE-TIME:20230221T121959Z
LAST-MODIFIED;VALUE=DATE-TIME:20230221T122007Z
URL:https://www.paeria.cat/ca/ajuntament/comunicacio/sala-de-premsa/agenda
 /agenda-de-comunicacio-17
END:VEVENT
END:VCALENDAR
