BEGIN:VCALENDAR
VERSION:2.0
PRODID:-//Plone.org//NONSGML plone.app.event//EN
X-WR-TIMEZONE:Europe/Madrid
BEGIN:VEVENT
SUMMARY:Agenda de comunicació
DTSTART;VALUE=DATE:20231117
DTEND;VALUE=DATE:20231118
DTSTAMP;VALUE=DATE-TIME:20260419T183816Z
UID:a44fbe09e8ad46c38e0255eaf1dfc233@www.paeria.cat
CREATED;VALUE=DATE-TIME:20231116T175759Z
LAST-MODIFIED;VALUE=DATE-TIME:20231116T175821Z
URL:https://www.paeria.cat/ca/ajuntament/comunicacio/sala-de-premsa/agenda
 /agenda-de-comunicacio-1700157480.5446556
END:VEVENT
END:VCALENDAR
