BEGIN:VCALENDAR
VERSION:2.0
PRODID:-//Plone.org//NONSGML plone.app.event//EN
X-WR-TIMEZONE:Europe/Madrid
BEGIN:VEVENT
SUMMARY:Agenda de comunicació
DTSTART;VALUE=DATE:20241216
DTEND;VALUE=DATE:20241217
DTSTAMP;VALUE=DATE-TIME:20260419T145904Z
UID:b5e8c9912cf54465998f2b7fce9ff680@www.paeria.cat
CREATED;VALUE=DATE-TIME:20241215T162907Z
LAST-MODIFIED;VALUE=DATE-TIME:20241215T162917Z
URL:https://www.paeria.cat/ca/ajuntament/comunicacio/sala-de-premsa/agenda
 /agenda-de-comunicacio-1734280147.9614873
END:VEVENT
END:VCALENDAR
