BEGIN:VCALENDAR
VERSION:2.0
PRODID:-//Plone.org//NONSGML plone.app.event//EN
X-WR-TIMEZONE:Europe/Madrid
BEGIN:VEVENT
SUMMARY:Agenda de comunicació
DTSTART;VALUE=DATE:20250623
DTEND;VALUE=DATE:20250624
DTSTAMP;VALUE=DATE-TIME:20260419T165648Z
UID:a5c51fd3d8684d60a37c857df6d18a73@www.paeria.cat
CREATED;VALUE=DATE-TIME:20250622T141025Z
LAST-MODIFIED;VALUE=DATE-TIME:20250622T141032Z
URL:https://www.paeria.cat/ca/ajuntament/comunicacio/sala-de-premsa/agenda
 /agenda-de-comunicacio-1750601425.6853313
END:VEVENT
END:VCALENDAR
