BEGIN:VCALENDAR
VERSION:2.0
PRODID:-//Plone.org//NONSGML plone.app.event//EN
X-WR-TIMEZONE:Europe/Madrid
BEGIN:VEVENT
SUMMARY:Agenda de comunicació
DTSTART;VALUE=DATE:20251229
DTEND;VALUE=DATE:20251230
DTSTAMP;VALUE=DATE-TIME:20260420T135333Z
UID:4699ca8658ad44a796018d391ee28ca0@www.paeria.cat
CREATED;VALUE=DATE-TIME:20251228T111206Z
LAST-MODIFIED;VALUE=DATE-TIME:20251228T111212Z
URL:https://www.paeria.cat/ca/ajuntament/comunicacio/sala-de-premsa/agenda
 /agenda-de-comunicacio-1766920326.5347743
END:VEVENT
END:VCALENDAR
