BEGIN:VCALENDAR
VERSION:2.0
PRODID:-//Plone.org//NONSGML plone.app.event//EN
X-WR-TIMEZONE:Europe/Madrid
BEGIN:VEVENT
SUMMARY:Agenda de comunicació
DTSTART;VALUE=DATE:20260107
DTEND;VALUE=DATE:20260108
DTSTAMP;VALUE=DATE-TIME:20260419T165853Z
UID:52b64fbdfae541edbcb0051805fd3606@www.paeria.cat
CREATED;VALUE=DATE-TIME:20260106T131023Z
LAST-MODIFIED;VALUE=DATE-TIME:20260106T131034Z
URL:https://www.paeria.cat/ca/ajuntament/comunicacio/sala-de-premsa/agenda
 /agenda-de-comunicacio-1767705025.1773734
END:VEVENT
END:VCALENDAR
