BEGIN:VCALENDAR
VERSION:2.0
PRODID:-//Plone.org//NONSGML plone.app.event//EN
X-WR-TIMEZONE:Europe/Madrid
BEGIN:VEVENT
SUMMARY:Agenda de comunicació
DTSTART;VALUE=DATE:20260111
DTEND;VALUE=DATE:20260112
DTSTAMP;VALUE=DATE-TIME:20260421T210745Z
UID:01c6f0d2b6354ecaaf88e1524e196d95@www.paeria.cat
CREATED;VALUE=DATE-TIME:20260110T130638Z
LAST-MODIFIED;VALUE=DATE-TIME:20260110T130646Z
URL:https://www.paeria.cat/ca/ajuntament/comunicacio/sala-de-premsa/agenda
 /agenda-de-comunicacio-1768050399.5165067
END:VEVENT
END:VCALENDAR
