BEGIN:VCALENDAR
VERSION:2.0
PRODID:-//Plone.org//NONSGML plone.app.event//EN
X-WR-TIMEZONE:Europe/Madrid
BEGIN:VEVENT
SUMMARY:Agenda de comunicació
DTSTART;VALUE=DATE:20260305
DTEND;VALUE=DATE:20260306
DTSTAMP;VALUE=DATE-TIME:20260420T013328Z
UID:a024bcbe76ec42c996fc587b39ff8c57@www.paeria.cat
CREATED;VALUE=DATE-TIME:20260304T182956Z
LAST-MODIFIED;VALUE=DATE-TIME:20260304T183017Z
URL:https://www.paeria.cat/ca/ajuntament/comunicacio/sala-de-premsa/agenda
 /agenda-de-comunicacio-1772648997.9048998
END:VEVENT
END:VCALENDAR
