BEGIN:VCALENDAR
VERSION:2.0
PRODID:-//Plone.org//NONSGML plone.app.event//EN
X-WR-TIMEZONE:Europe/Madrid
BEGIN:VEVENT
SUMMARY:Agenda de Comunicació
DTSTART;VALUE=DATE:20260307
DTEND;VALUE=DATE:20260308
DTSTAMP;VALUE=DATE-TIME:20260422T133850Z
UID:f3739dac62764a47b1b32d5d379a9fba@www.paeria.cat
CREATED;VALUE=DATE-TIME:20260306T174507Z
LAST-MODIFIED;VALUE=DATE-TIME:20260306T174518Z
URL:https://www.paeria.cat/ca/ajuntament/comunicacio/sala-de-premsa/agenda
 /agenda-de-comunicacio-1772819108.5677745
END:VEVENT
END:VCALENDAR
