BEGIN:VCALENDAR
VERSION:2.0
PRODID:-//Plone.org//NONSGML plone.app.event//EN
X-WR-TIMEZONE:Europe/Madrid
BEGIN:VEVENT
SUMMARY:Agenda de Comunicació
DTSTART;VALUE=DATE:20260310
DTEND;VALUE=DATE:20260311
DTSTAMP;VALUE=DATE-TIME:20260425T202549Z
UID:26080411117f4b48bd98dd0036aaa570@www.paeria.cat
CREATED;VALUE=DATE-TIME:20260309T181748Z
LAST-MODIFIED;VALUE=DATE-TIME:20260309T181834Z
URL:https://www.paeria.cat/ca/ajuntament/comunicacio/sala-de-premsa/agenda
 /agenda-de-comunicacio-1773080268.7799826
END:VEVENT
END:VCALENDAR
