BEGIN:VCALENDAR
VERSION:2.0
PRODID:-//Plone.org//NONSGML plone.app.event//EN
X-WR-TIMEZONE:Europe/Madrid
BEGIN:VEVENT
SUMMARY:Agenda de comunicació
DTSTART;VALUE=DATE:20260420
DTEND;VALUE=DATE:20260421
DTSTAMP;VALUE=DATE-TIME:20260420T004157Z
UID:31eecb98eb8149f3b5af6d4d66fbb3da@www.paeria.cat
CREATED;VALUE=DATE-TIME:20260419T163515Z
LAST-MODIFIED;VALUE=DATE-TIME:20260419T184823Z
URL:https://www.paeria.cat/ca/ajuntament/comunicacio/sala-de-premsa/agenda
 /agenda-de-comunicacio-1776616515.4665902
END:VEVENT
END:VCALENDAR
