BEGIN:VCALENDAR
VERSION:2.0
PRODID:-//Plone.org//NONSGML plone.app.event//EN
X-WR-TIMEZONE:Europe/Madrid
BEGIN:VEVENT
SUMMARY:Agenda de comunicació
DTSTART;VALUE=DATE:20260421
DTEND;VALUE=DATE:20260422
DTSTAMP;VALUE=DATE-TIME:20260421T130816Z
UID:091c7371094e4948ad5d9c3101ba9ed2@www.paeria.cat
CREATED;VALUE=DATE-TIME:20260420T165015Z
LAST-MODIFIED;VALUE=DATE-TIME:20260420T165044Z
URL:https://www.paeria.cat/ca/ajuntament/comunicacio/sala-de-premsa/agenda
 /agenda-de-comunicacio-1776703815.431603
END:VEVENT
END:VCALENDAR
