BEGIN:VCALENDAR
VERSION:2.0
PRODID:-//Plone.org//NONSGML plone.app.event//EN
X-WR-TIMEZONE:Europe/Madrid
BEGIN:VEVENT
SUMMARY:Agenda de Comunicació
DTSTART;VALUE=DATE:20260423
DTEND;VALUE=DATE:20260424
DTSTAMP;VALUE=DATE-TIME:20260424T120139Z
UID:c8fab8b72c534c70b8ea85fb03ff5dcc@www.paeria.cat
CREATED;VALUE=DATE-TIME:20260422T155311Z
LAST-MODIFIED;VALUE=DATE-TIME:20260422T155318Z
URL:https://www.paeria.cat/ca/ajuntament/comunicacio/sala-de-premsa/agenda
 /agenda-de-comunicacio-1776873192.2340283
END:VEVENT
END:VCALENDAR
