BEGIN:VCALENDAR
VERSION:2.0
PRODID:-//Plone.org//NONSGML plone.app.event//EN
X-WR-TIMEZONE:Europe/Madrid
BEGIN:VEVENT
SUMMARY:Agenda de Comunicació
DTSTART;VALUE=DATE:20260424
DTEND;VALUE=DATE:20260425
DTSTAMP;VALUE=DATE-TIME:20260423T233139Z
UID:523bfd08ba4b4da484ec7255a7936318@www.paeria.cat
CREATED;VALUE=DATE-TIME:20260423T172233Z
LAST-MODIFIED;VALUE=DATE-TIME:20260423T172330Z
URL:https://www.paeria.cat/ca/ajuntament/comunicacio/sala-de-premsa/agenda
 /agenda-de-comunicacio-1776964953.498963
END:VEVENT
END:VCALENDAR
