BEGIN:VCALENDAR
VERSION:2.0
PRODID:-//Plone.org//NONSGML plone.app.event//EN
X-WR-TIMEZONE:Europe/Madrid
BEGIN:VEVENT
SUMMARY:Agenda de comunicació - 19 de febrer de 2023
DTSTART;VALUE=DATE:20230219
DTEND;VALUE=DATE:20230220
DTSTAMP;VALUE=DATE-TIME:20260422T133848Z
UID:c3be7f53b2284b53b7b998913de05e64@www.paeria.cat
CREATED;VALUE=DATE-TIME:20230218T180232Z
LAST-MODIFIED;VALUE=DATE-TIME:20230218T181722Z
URL:https://www.paeria.cat/ca/ajuntament/comunicacio/sala-de-premsa/agenda
 /agenda-de-comunicacio-19-de-febrer-de-2023
END:VEVENT
END:VCALENDAR
