BEGIN:VCALENDAR
VERSION:2.0
PRODID:-//Plone.org//NONSGML plone.app.event//EN
X-WR-TIMEZONE:Europe/Madrid
BEGIN:VEVENT
SUMMARY:Agenda de comunicació - 20 de febrer de 2023
DTSTART;VALUE=DATE:20230220
DTEND;VALUE=DATE:20230221
DTSTAMP;VALUE=DATE-TIME:20260425T135459Z
UID:55ca3c046393491e9304cf25ff9f6915@www.paeria.cat
CREATED;VALUE=DATE-TIME:20230219T113252Z
LAST-MODIFIED;VALUE=DATE-TIME:20230219T124005Z
URL:https://www.paeria.cat/ca/ajuntament/comunicacio/sala-de-premsa/agenda
 /agenda-de-comunicacio-20-de-febrer-de-2023
END:VEVENT
END:VCALENDAR
