BEGIN:VCALENDAR
VERSION:2.0
PRODID:-//Plone.org//NONSGML plone.app.event//EN
X-WR-TIMEZONE:Europe/Madrid
BEGIN:VEVENT
SUMMARY:Agenda de comunicació
DTSTART;VALUE=DATE:20230222
DTEND;VALUE=DATE:20230223
DTSTAMP;VALUE=DATE-TIME:20260421T220243Z
UID:661dec812e41479b9cbc767af73ebe98@www.paeria.cat
CREATED;VALUE=DATE-TIME:20230221T184320Z
LAST-MODIFIED;VALUE=DATE-TIME:20230221T184324Z
URL:https://www.paeria.cat/ca/ajuntament/comunicacio/sala-de-premsa/agenda
 /agenda-de-comunicacio-21
END:VEVENT
END:VCALENDAR
