BEGIN:VCALENDAR
VERSION:2.0
PRODID:-//Plone.org//NONSGML plone.app.event//EN
X-WR-TIMEZONE:Europe/Madrid
BEGIN:VEVENT
SUMMARY:Agenda de Comunicació
DTSTART;VALUE=DATE:20230223
DTEND;VALUE=DATE:20230224
DTSTAMP;VALUE=DATE-TIME:20260421T220306Z
UID:83719123332d4732bb74559fac7f0f95@www.paeria.cat
CREATED;VALUE=DATE-TIME:20230222T181957Z
LAST-MODIFIED;VALUE=DATE-TIME:20230222T182003Z
URL:https://www.paeria.cat/ca/ajuntament/comunicacio/sala-de-premsa/agenda
 /agenda-de-comunicacio-22
END:VEVENT
END:VCALENDAR
