BEGIN:VCALENDAR
VERSION:2.0
PRODID:-//Plone.org//NONSGML plone.app.event//EN
X-WR-TIMEZONE:Europe/Madrid
BEGIN:VEVENT
SUMMARY:Agenda de comunicació
DTSTART;TZID=Europe/Madrid;VALUE=DATE-TIME:20230223T190000
DTEND;TZID=Europe/Madrid;VALUE=DATE-TIME:20230223T200000
DTSTAMP;VALUE=DATE-TIME:20260422T062551Z
UID:cdeddd019de94b2992d7cc1262ded425@www.paeria.cat
CREATED;VALUE=DATE-TIME:20230223T183627Z
LAST-MODIFIED;VALUE=DATE-TIME:20230223T183639Z
URL:https://www.paeria.cat/ca/ajuntament/comunicacio/sala-de-premsa/agenda
 /agenda-de-comunicacio-23
END:VEVENT
BEGIN:VTIMEZONE
TZID:Europe/Madrid
X-LIC-LOCATION:Europe/Madrid
BEGIN:STANDARD
DTSTART;VALUE=DATE-TIME:20221030T020000
TZNAME:CET
TZOFFSETFROM:+0200
TZOFFSETTO:+0100
END:STANDARD
END:VTIMEZONE
END:VCALENDAR
