BEGIN:VCALENDAR
VERSION:2.0
PRODID:-//Plone.org//NONSGML plone.app.event//EN
X-WR-TIMEZONE:Europe/Madrid
BEGIN:VEVENT
SUMMARY:Agenda de comunicació - 5 de febrer de 2023
DTSTART;VALUE=DATE:20230205
DTEND;VALUE=DATE:20230206
DTSTAMP;VALUE=DATE-TIME:20260422T133902Z
UID:d0f8215988ce47608f387b40631c266d@www.paeria.cat
CREATED;VALUE=DATE-TIME:20230204T090244Z
LAST-MODIFIED;VALUE=DATE-TIME:20230204T140655Z
URL:https://www.paeria.cat/ca/ajuntament/comunicacio/sala-de-premsa/agenda
 /agenda-de-comunicacio-4-de-febrer-de-2023
END:VEVENT
END:VCALENDAR
