BEGIN:VCALENDAR
VERSION:2.0
PRODID:-//Plone.org//NONSGML plone.app.event//EN
X-WR-TIMEZONE:Europe/Madrid
BEGIN:VEVENT
SUMMARY:Agenda de comunicació del 14 de desembre
DTSTART;VALUE=DATE:20221214
DTEND;VALUE=DATE:20221215
DTSTAMP;VALUE=DATE-TIME:20260420T050650Z
UID:49a64571c7a1439f8f806777e29648c5@www.paeria.cat
CREATED;VALUE=DATE-TIME:20221213T184145Z
LAST-MODIFIED;VALUE=DATE-TIME:20221223T121016Z
URL:https://www.paeria.cat/ca/ajuntament/comunicacio/sala-de-premsa/agenda
 /agenda-de-comunicacio-del-14-de-desembre
END:VEVENT
END:VCALENDAR
