BEGIN:VCALENDAR
VERSION:2.0
PRODID:-//Plone.org//NONSGML plone.app.event//EN
X-WR-TIMEZONE:Europe/Madrid
BEGIN:VEVENT
SUMMARY:Agenda de comunicació del 17 de setembre
DTSTART;VALUE=DATE:20250917
DTEND;VALUE=DATE:20250918
DTSTAMP;VALUE=DATE-TIME:20260419T200442Z
UID:6d419950d64b474682433c24ad9d282c@www.paeria.cat
CREATED;VALUE=DATE-TIME:20250916T181126Z
LAST-MODIFIED;VALUE=DATE-TIME:20250916T181213Z
URL:https://www.paeria.cat/ca/ajuntament/comunicacio/sala-de-premsa/agenda
 /agenda-de-comunicacio-del-17-de-setembre
END:VEVENT
END:VCALENDAR
