BEGIN:VCALENDAR
VERSION:2.0
PRODID:-//Plone.org//NONSGML plone.app.event//EN
X-WR-TIMEZONE:Europe/Madrid
BEGIN:VEVENT
SUMMARY:Agenda de comunicació del 18  de març
DTSTART;VALUE=DATE:20230318
DTEND;VALUE=DATE:20230319
DTSTAMP;VALUE=DATE-TIME:20260422T195919Z
UID:3c2782ddb7fa4df08980e263a34ab5c8@www.paeria.cat
CREATED;VALUE=DATE-TIME:20230317T131758Z
LAST-MODIFIED;VALUE=DATE-TIME:20230317T142523Z
URL:https://www.paeria.cat/ca/ajuntament/comunicacio/sala-de-premsa/agenda
 /agenda-de-comunicacio-del-18-de-marc
END:VEVENT
END:VCALENDAR
