BEGIN:VCALENDAR
VERSION:2.0
PRODID:-//Plone.org//NONSGML plone.app.event//EN
X-WR-TIMEZONE:Europe/Madrid
BEGIN:VEVENT
SUMMARY:Agenda de comunicació del 9 de juliol
DTSTART;VALUE=DATE:20230708
DTEND;VALUE=DATE:20230709
DTSTAMP;VALUE=DATE-TIME:20260420T120249Z
UID:261cc911a1ad43eb8b10587e964e9356@www.paeria.cat
CREATED;VALUE=DATE-TIME:20230708T110413Z
LAST-MODIFIED;VALUE=DATE-TIME:20230708T110425Z
URL:https://www.paeria.cat/ca/ajuntament/comunicacio/sala-de-premsa/agenda
 /agenda-de-comunicacio-del-9-de-juliol
END:VEVENT
END:VCALENDAR
