BEGIN:VCALENDAR
VERSION:2.0
PRODID:-//Plone.org//NONSGML plone.app.event//EN
X-WR-TIMEZONE:Europe/Madrid
BEGIN:VEVENT
SUMMARY:Agenda de dilluns\, 29 d'abril
DTSTART;VALUE=DATE:20240429
DTEND;VALUE=DATE:20240430
DTSTAMP;VALUE=DATE-TIME:20260420T115441Z
UID:cc384ad194fa43bdb1c85cf6308238cb@www.paeria.cat
CREATED;VALUE=DATE-TIME:20240428T115957Z
LAST-MODIFIED;VALUE=DATE-TIME:20240428T120014Z
URL:https://www.paeria.cat/ca/ajuntament/comunicacio/sala-de-premsa/agenda
 /agenda-de-dilluns-29-dabril
END:VEVENT
END:VCALENDAR
