BEGIN:VCALENDAR
VERSION:2.0
PRODID:-//Plone.org//NONSGML plone.app.event//EN
X-WR-TIMEZONE:Europe/Madrid
BEGIN:VEVENT
SUMMARY:Agenda de l'1 de setembre
DTSTART;VALUE=DATE:20230901
DTEND;VALUE=DATE:20230902
DTSTAMP;VALUE=DATE-TIME:20260420T151732Z
UID:c83814d931eb4ff09cae7870416e2f84@www.paeria.cat
CREATED;VALUE=DATE-TIME:20230831T174844Z
LAST-MODIFIED;VALUE=DATE-TIME:20230831T174850Z
URL:https://www.paeria.cat/ca/ajuntament/comunicacio/sala-de-premsa/agenda
 /agenda-de-l1-de-setembre
END:VEVENT
END:VCALENDAR
