BEGIN:VCALENDAR
VERSION:2.0
PRODID:-//Plone.org//NONSGML plone.app.event//EN
X-WR-TIMEZONE:Europe/Madrid
BEGIN:VEVENT
SUMMARY:Agenda del 14 de febrer
DTSTART;VALUE=DATE:20230214
DTEND;VALUE=DATE:20230215
DTSTAMP;VALUE=DATE-TIME:20260426T024417Z
UID:b35bd922b279445ab21ad77a8b173e1c@www.paeria.cat
CREATED;VALUE=DATE-TIME:20230213T165319Z
LAST-MODIFIED;VALUE=DATE-TIME:20230213T170158Z
URL:https://www.paeria.cat/ca/ajuntament/comunicacio/sala-de-premsa/agenda
 /agenda-del-14-de-febrer
END:VEVENT
END:VCALENDAR
