BEGIN:VCALENDAR
VERSION:2.0
PRODID:-//Plone.org//NONSGML plone.app.event//EN
X-WR-TIMEZONE:Europe/Madrid
BEGIN:VEVENT
SUMMARY:Agenda del 4 de febrer
DTSTART;VALUE=DATE:20230204
DTEND;VALUE=DATE:20230205
DTSTAMP;VALUE=DATE-TIME:20260424T103117Z
UID:9179af3e28ce405d852481bee48a036a@www.paeria.cat
CREATED;VALUE=DATE-TIME:20230203T152831Z
LAST-MODIFIED;VALUE=DATE-TIME:20230204T090132Z
URL:https://www.paeria.cat/ca/ajuntament/comunicacio/sala-de-premsa/agenda
 /agenda-del-4-de-febrer
END:VEVENT
END:VCALENDAR
