BEGIN:VCALENDAR
VERSION:2.0
PRODID:-//Plone.org//NONSGML plone.app.event//EN
X-WR-TIMEZONE:Europe/Madrid
BEGIN:VEVENT
SUMMARY:Agenda del 9 de febrer
DTSTART;TZID=Europe/Madrid;VALUE=DATE-TIME:20230208T190000
DTEND;TZID=Europe/Madrid;VALUE=DATE-TIME:20230208T200000
DTSTAMP;VALUE=DATE-TIME:20260422T133901Z
UID:df14ad70ba5a4d53afaebd3637dc3bef@www.paeria.cat
CREATED;VALUE=DATE-TIME:20230208T182435Z
LAST-MODIFIED;VALUE=DATE-TIME:20230221T120939Z
URL:https://www.paeria.cat/ca/ajuntament/comunicacio/sala-de-premsa/agenda
 /agenda-del-9-de-febrer
END:VEVENT
BEGIN:VTIMEZONE
TZID:Europe/Madrid
X-LIC-LOCATION:Europe/Madrid
BEGIN:STANDARD
DTSTART;VALUE=DATE-TIME:20221030T020000
TZNAME:CET
TZOFFSETFROM:+0200
TZOFFSETTO:+0100
END:STANDARD
END:VTIMEZONE
END:VCALENDAR
