BEGIN:VCALENDAR
VERSION:2.0
PRODID:-//Plone.org//NONSGML plone.app.event//EN
X-WR-TIMEZONE:Europe/Madrid
BEGIN:VEVENT
SUMMARY:18 de diciembre - Conmemoración del Día Internacional de la Pers
 ona Migrada
DTSTART;TZID=Europe/Madrid;VALUE=DATE-TIME:20231218T180000
DTEND;TZID=Europe/Madrid;VALUE=DATE-TIME:20231218T200000
DTSTAMP;VALUE=DATE-TIME:20260422T150329Z
UID:e3d2391534ce478eb2d66e400a9f3e6a@www.paeria.cat
CATEGORIES:Ciudadanía
CREATED;VALUE=DATE-TIME:20231214T140802Z
DESCRIPTION:Jornada organizada por la Concejalía de Cooperación\, con la
  colaboración de la asociación SlowShop Lleida y la participación de en
 tidades del colectivo migrado pertenecientes al FOCCS y la coordinadora de
  ONGD's y aMS de Lleida. Una jornada\, lunes 18 de diciembre de 18h a 19h 
 en av. Blondel de Lleida\, y enmarcada en el día internacional de la pers
 ona migrada\, proclamada por la Asamblea General de las Naciones Unidas el
  4 de diciembre del año 2000. El acto se convierte en un espacio de divul
 gación sobre el proceso migratorio\, defendiendo los Derechos Humanos\, e
 n concreto\, el derecho a migrar. El acto tendrá la siguiente escaleta: -
  A las 18:00h: Inauguración del espacio expositivo en los comercios del E
 je Comercial del SlowShop (Avenida Blondel)\; y parlamentos de entidades (
 Patio de las Comedias). - A las 18:15h: Cuenta-cuentos infantil a cargo de
  la cuentacuentos Meritxell Morera. - A las 18.00h-19.00h: Juegos de mesa 
 del mundo a cargo de la Red Municipal de Ludoteques de Lleida.
LAST-MODIFIED;VALUE=DATE-TIME:20250514T114140Z
URL:https://www.paeria.cat/es/actualidad/agenda/18-de-diciembre-conmemorac
 ion-del-dia-internacional-de-la-persona-migrada
END:VEVENT
BEGIN:VTIMEZONE
TZID:Europe/Madrid
X-LIC-LOCATION:Europe/Madrid
BEGIN:STANDARD
DTSTART;VALUE=DATE-TIME:20231029T020000
TZNAME:CET
TZOFFSETFROM:+0200
TZOFFSETTO:+0100
END:STANDARD
END:VTIMEZONE
END:VCALENDAR
