BEGIN:VCALENDAR
VERSION:2.0
PRODID:-//Plone.org//NONSGML plone.app.event//EN
X-WR-TIMEZONE:Europe/Madrid
BEGIN:VEVENT
SUMMARY:1a extensió del Festival FUM FUM FUM. EL CAU DEL TABALET. Farrés
  Brothers
DTSTART;VALUE=DATE:20241229
DTEND;VALUE=DATE:20241230
DTSTAMP;VALUE=DATE-TIME:20260422T201904Z
UID:2f237054775642569826aced841fab3f@www.paeria.cat
CREATED;VALUE=DATE-TIME:20241125T115915Z
DESCRIPTION:6è FESTIVAL FUM\, FUM\, FUM
LAST-MODIFIED;VALUE=DATE-TIME:20241223T122416Z
URL:https://www.paeria.cat/es/actualidad/agenda/1a-extensio-del-festival-f
 um-fum-fum-el-cau-del-tabalet-farres-brothers
END:VEVENT
END:VCALENDAR
