BEGIN:VCALENDAR
VERSION:2.0
PRODID:-//Plone.org//NONSGML plone.app.event//EN
X-WR-TIMEZONE:Europe/Madrid
BEGIN:VEVENT
SUMMARY:21a Muestra de Cine Espiritual de Cataluña
DTSTART;TZID=Europe/Madrid;VALUE=DATE-TIME:20241125T180000
DTSTAMP;VALUE=DATE-TIME:20260422T113801Z
UID:2401ee68487d4c3dae056dc03664f1ae@www.paeria.cat
CATEGORIES:Audiovisuales,Cine y vídeo,Cultura
CREATED;VALUE=DATE-TIME:20241116T151040Z
LAST-MODIFIED;VALUE=DATE-TIME:20241116T151047Z
URL:https://www.paeria.cat/es/actualidad/agenda/21a-muestra-de-cine-espiri
 tual-de-cataluna/2024-11-25
END:VEVENT
BEGIN:VTIMEZONE
TZID:Europe/Madrid
X-LIC-LOCATION:Europe/Madrid
BEGIN:STANDARD
DTSTART;VALUE=DATE-TIME:20241027T020000
TZNAME:CET
TZOFFSETFROM:+0200
TZOFFSETTO:+0100
END:STANDARD
END:VTIMEZONE
END:VCALENDAR
