BEGIN:VCALENDAR
VERSION:2.0
PRODID:-//Plone.org//NONSGML plone.app.event//EN
X-WR-TIMEZONE:Europe/Madrid
BEGIN:VEVENT
SUMMARY:2a edición Patac. Festival de gráfica efervescente
DTSTART;TZID=Europe/Madrid;VALUE=DATE-TIME:20241019T110000
DTSTAMP;VALUE=DATE-TIME:20260422T125331Z
UID:45608414a4ba4437987d16240a6943cd@www.paeria.cat
CATEGORIES:Exposiciones,Arte,Charlas y conferencias,Talleres y cursos,Cult
 ura
CREATED;VALUE=DATE-TIME:20241008T172507Z
LAST-MODIFIED;VALUE=DATE-TIME:20241008T172554Z
URL:https://www.paeria.cat/es/actualidad/agenda/2a-edicion-patac-festival-
 de-grafica-efervescente
END:VEVENT
BEGIN:VTIMEZONE
TZID:Europe/Madrid
X-LIC-LOCATION:Europe/Madrid
BEGIN:DAYLIGHT
DTSTART;VALUE=DATE-TIME:20240331T030000
TZNAME:CEST
TZOFFSETFROM:+0100
TZOFFSETTO:+0200
END:DAYLIGHT
END:VTIMEZONE
END:VCALENDAR
