BEGIN:VCALENDAR
VERSION:2.0
PRODID:-//Plone.org//NONSGML plone.app.event//EN
X-WR-TIMEZONE:Europe/Madrid
BEGIN:VEVENT
SUMMARY:3a Jornada sobre el catalanismo en el siglo XXI
DTSTART;TZID=Europe/Madrid;VALUE=DATE-TIME:20241026T093000
DTSTAMP;VALUE=DATE-TIME:20260422T081352Z
UID:d4c15c4a520a49f9a7349e895dcb6602@www.paeria.cat
CATEGORIES:Charlas y conferencias,Cultura
CREATED;VALUE=DATE-TIME:20241023T063250Z
LAST-MODIFIED;VALUE=DATE-TIME:20250514T132055Z
URL:https://www.paeria.cat/es/actualidad/agenda/3a-jornada-sobre-el-catala
 nismo-en-el-siglo-xxi
END:VEVENT
BEGIN:VTIMEZONE
TZID:Europe/Madrid
X-LIC-LOCATION:Europe/Madrid
BEGIN:DAYLIGHT
DTSTART;VALUE=DATE-TIME:20240331T030000
TZNAME:CEST
TZOFFSETFROM:+0100
TZOFFSETTO:+0200
END:DAYLIGHT
END:VTIMEZONE
END:VCALENDAR
