BEGIN:VCALENDAR
VERSION:2.0
PRODID:-//Plone.org//NONSGML plone.app.event//EN
X-WR-TIMEZONE:Europe/Madrid
BEGIN:VEVENT
SUMMARY:4th Ricard Viñes Piano Kids and Youth
DTSTART;TZID=Europe/Madrid;VALUE=DATE-TIME:20240627T200000
DTEND;TZID=Europe/Madrid;VALUE=DATE-TIME:20240629T210000
DTSTAMP;VALUE=DATE-TIME:20260423T022638Z
UID:746679855bc040e28f0f87cce76c340b@www.paeria.cat
CATEGORIES:Cultura,Música,Ciudadanía,Público,Todos los públicos
CREATED;VALUE=DATE-TIME:20240507T124216Z
DESCRIPTION:Cuarta convocatoria de Ricard Viñes Piano Kids and Youth\, di
 rigido a jóvenes promesas hasta 17 años\, que tendrá lugar los días 27
  a 29 de junio de 2024. Dividido en tres categorías (hasta 11\, 14 y 17 a
 ños)\, los concursantes podrán actuar en nuestro magnífico Auditorio an
 te un público entusiasta y un jurado internacional.
LAST-MODIFIED;VALUE=DATE-TIME:20240528T110127Z
URL:https://www.paeria.cat/es/actualidad/agenda/4th-ricard-vines-piano-kid
 s-and-youth
END:VEVENT
BEGIN:VTIMEZONE
TZID:Europe/Madrid
X-LIC-LOCATION:Europe/Madrid
BEGIN:DAYLIGHT
DTSTART;VALUE=DATE-TIME:20240331T030000
TZNAME:CEST
TZOFFSETFROM:+0100
TZOFFSETTO:+0200
END:DAYLIGHT
END:VTIMEZONE
END:VCALENDAR
