BEGIN:VCALENDAR
VERSION:2.0
PRODID:-//Plone.org//NONSGML plone.app.event//EN
X-WR-TIMEZONE:Europe/Madrid
BEGIN:VEVENT
SUMMARY:SUSPENDIDO _9 mujeres y una boda con Gatzara Teatre
DTSTART;TZID=Europe/Madrid;VALUE=DATE-TIME:20241006T190000
DTEND;TZID=Europe/Madrid;VALUE=DATE-TIME:20241006T200000
DTSTAMP;VALUE=DATE-TIME:20260419T234203Z
UID:032977d489984619812f6c1cf75ce33e@www.paeria.cat
CREATED;VALUE=DATE-TIME:20240719T092315Z
DESCRIPTION:31a Muestra de Artes Escénicas Josep Fonollosa
LAST-MODIFIED;VALUE=DATE-TIME:20240920T110612Z
URL:https://www.paeria.cat/es/actualidad/agenda/9-mujeres-y-una-boda-con-g
 atzara-teatre
END:VEVENT
BEGIN:VTIMEZONE
TZID:Europe/Madrid
X-LIC-LOCATION:Europe/Madrid
BEGIN:DAYLIGHT
DTSTART;VALUE=DATE-TIME:20240331T030000
TZNAME:CEST
TZOFFSETFROM:+0100
TZOFFSETTO:+0200
END:DAYLIGHT
END:VTIMEZONE
END:VCALENDAR
