BEGIN:VCALENDAR
VERSION:2.0
PRODID:-//Plone.org//NONSGML plone.app.event//EN
X-WR-TIMEZONE:Europe/Madrid
BEGIN:VEVENT
SUMMARY:A todo ritmo. Actívate en el Casal 2022-2023
DTSTART;TZID=Europe/Madrid;VALUE=DATE-TIME:20230417T173000
DTEND;TZID=Europe/Madrid;VALUE=DATE-TIME:20230417T193000
DTSTAMP;VALUE=DATE-TIME:20260423T001801Z
UID:b5cd4b37d90746659fed0aa29303b076@www.paeria.cat
CATEGORIES:Deportes,Público,Mujer,Salud
CREATED;VALUE=DATE-TIME:20221212T121257Z
DESCRIPTION:Actividad física para mejorar la coordinación corporal\, el 
 equilibrio\, la flexibilidad y la memoria mediante el ritmo\, la música y
  el movimiento.
LAST-MODIFIED;VALUE=DATE-TIME:20240509T070950Z
URL:https://www.paeria.cat/es/actualidad/agenda/a-todo-ritmo-activate-en-e
 l-casal-2022-2023/2023-04-17
END:VEVENT
BEGIN:VTIMEZONE
TZID:Europe/Madrid
X-LIC-LOCATION:Europe/Madrid
BEGIN:DAYLIGHT
DTSTART;VALUE=DATE-TIME:20230326T030000
TZNAME:CEST
TZOFFSETFROM:+0100
TZOFFSETTO:+0200
END:DAYLIGHT
END:VTIMEZONE
END:VCALENDAR
