BEGIN:VCALENDAR
VERSION:2.0
PRODID:-//Plone.org//NONSGML plone.app.event//EN
X-WR-TIMEZONE:Europe/Madrid
BEGIN:VEVENT
SUMMARY:Actividades organizadas con motivo del Día Internacional del Agua
DTSTART;TZID=Europe/Madrid;VALUE=DATE-TIME:20240323T100000
DTSTAMP;VALUE=DATE-TIME:20260423T073514Z
UID:fdf194a0199c426dbded072d39a13332@www.paeria.cat
CATEGORIES:Exposiciones,Itinerarios y visitas,Cultura
CREATED;VALUE=DATE-TIME:20240315T115825Z
LAST-MODIFIED;VALUE=DATE-TIME:20240315T115832Z
URL:https://www.paeria.cat/es/actualidad/agenda/actividades-organizadas-co
 n-motivo-del-dia-internacional-del-agua
END:VEVENT
BEGIN:VTIMEZONE
TZID:Europe/Madrid
X-LIC-LOCATION:Europe/Madrid
BEGIN:STANDARD
DTSTART;VALUE=DATE-TIME:20231029T020000
TZNAME:CET
TZOFFSETFROM:+0200
TZOFFSETTO:+0100
END:STANDARD
END:VTIMEZONE
END:VCALENDAR
